BEGIN:VCALENDAR
VERSION:2.0
PRODID:-//Pension@Work - ECPv6.15.11//NONSGML v1.0//EN
CALSCALE:GREGORIAN
METHOD:PUBLISH
X-WR-CALNAME:Pension@Work
X-ORIGINAL-URL:https://pensionatwork.nl
X-WR-CALDESC:Evenementen voor Pension@Work
REFRESH-INTERVAL;VALUE=DURATION:PT1H
X-Robots-Tag:noindex
X-PUBLISHED-TTL:PT1H
BEGIN:VTIMEZONE
TZID:Europe/Amsterdam
BEGIN:DAYLIGHT
TZOFFSETFROM:+0100
TZOFFSETTO:+0200
TZNAME:CEST
DTSTART:20190331T010000
END:DAYLIGHT
BEGIN:STANDARD
TZOFFSETFROM:+0200
TZOFFSETTO:+0100
TZNAME:CET
DTSTART:20191027T010000
END:STANDARD
BEGIN:DAYLIGHT
TZOFFSETFROM:+0100
TZOFFSETTO:+0200
TZNAME:CEST
DTSTART:20200329T010000
END:DAYLIGHT
BEGIN:STANDARD
TZOFFSETFROM:+0200
TZOFFSETTO:+0100
TZNAME:CET
DTSTART:20201025T010000
END:STANDARD
BEGIN:DAYLIGHT
TZOFFSETFROM:+0100
TZOFFSETTO:+0200
TZNAME:CEST
DTSTART:20210328T010000
END:DAYLIGHT
BEGIN:STANDARD
TZOFFSETFROM:+0200
TZOFFSETTO:+0100
TZNAME:CET
DTSTART:20211031T010000
END:STANDARD
END:VTIMEZONE
BEGIN:VEVENT
DTSTART;TZID=Europe/Amsterdam:20200901T083000
DTEND;TZID=Europe/Amsterdam:20200901T130000
DTSTAMP:20260423T114221
CREATED:20200916T173439Z
LAST-MODIFIED:20200918T153602Z
UID:444-1598949000-1598965200@pensionatwork.nl
SUMMARY:Pensioen Workshop
DESCRIPTION:Voor ondernemers en ZZP’ers:\nOndernemers en ZZP’ers zijn voor de opbouw van pensioen en voor het afdekken van het overlijdensrisico volledig op zichzelf aangewezen. \nMeestal zijn zij zich er wel van bewust dat dit erg belangrijke onderwerpen zijn. Maar vanwege de ingewikkelde materie en gebrek aan tijd stellen zij het moment om hiermee aan de slag te gaan steeds weer uit. Vele ondernemers lopen daardoor onnodige risico’s en vele bereiken de pensioengerechtigde leeftijd met een minimaal pensioen. \nDe workshop “jouw eigen pensioenplan” lost dit probleem voor je op! De workshop kost € 395\,00 ex btw en duurt zo’n 4\,5 uur. Aan het einde ervan heb je jouw eigen persoonlijke Pensioenplan in handen. Een betere investering is bijna niet denkbaar. \nTijdens de workshop krijg je antwoord op de volgende belangrijke vragen: \n→ Hoeveel pensioen heb ik eigenlijk nodig om straks goed te kunnen leven?\n→ Hoe kan ik mijn pensioen het beste aanvullen of opbouwen?\n→ Wat moet ik regelen voor mijn gezin voor het geval mij iets overkomt? \nDe workshop “jouw eigen pensioenplan” geeft je het kompas om jouw eigen pensioenkoers te bepalen! \nWil jij dit ook? Neem dan contact op met Pension@Work.
URL:https://pensionatwork.nl/event/pensioen-workshop/
LOCATION:Intern
CATEGORIES:Financieel plan,Pensioen,Workshop
ATTACH;FMTTYPE=image/jpeg:https://pensionatwork.nl/wp-content/uploads/2015/06/home_slide-1.jpg
ORGANIZER;CN="Remco Havekes":MAILTO:remco@pensionatwork.nl
END:VEVENT
END:VCALENDAR